BEGIN:VCALENDAR
VERSION:2.0
PRODID:-//Jewish Federation of Palm Beach County - ECPv6.15.20//NONSGML v1.0//EN
CALSCALE:GREGORIAN
METHOD:PUBLISH
X-WR-CALNAME:Jewish Federation of Palm Beach County
X-ORIGINAL-URL:https://jewishpb.org
X-WR-CALDESC:Events for Jewish Federation of Palm Beach County
REFRESH-INTERVAL;VALUE=DURATION:PT1H
X-Robots-Tag:noindex
X-PUBLISHED-TTL:PT1H
BEGIN:VTIMEZONE
TZID:America/New_York
BEGIN:DAYLIGHT
TZOFFSETFROM:-0500
TZOFFSETTO:-0400
TZNAME:EDT
DTSTART:20250309T070000
END:DAYLIGHT
BEGIN:STANDARD
TZOFFSETFROM:-0400
TZOFFSETTO:-0500
TZNAME:EST
DTSTART:20251102T060000
END:STANDARD
BEGIN:DAYLIGHT
TZOFFSETFROM:-0500
TZOFFSETTO:-0400
TZNAME:EDT
DTSTART:20260308T070000
END:DAYLIGHT
BEGIN:STANDARD
TZOFFSETFROM:-0400
TZOFFSETTO:-0500
TZNAME:EST
DTSTART:20261101T060000
END:STANDARD
BEGIN:DAYLIGHT
TZOFFSETFROM:-0500
TZOFFSETTO:-0400
TZNAME:EDT
DTSTART:20270314T070000
END:DAYLIGHT
BEGIN:STANDARD
TZOFFSETFROM:-0400
TZOFFSETTO:-0500
TZNAME:EST
DTSTART:20271107T060000
END:STANDARD
END:VTIMEZONE
BEGIN:VEVENT
DTSTART;VALUE=DATE:20260420
DTEND;VALUE=DATE:20260421
DTSTAMP:20260420T204216
CREATED:20250618T140351Z
LAST-MODIFIED:20250618T140351Z
UID:10000280-1776643200-1776729599@jewishpb.org
SUMMARY:Yom HaZikaron
DESCRIPTION:Critical Conversation 2026 – Iran and the New Geopolitical Landscape				\n				\n					\n				\n		\n					\n		\n				\n				\n									\n					\n						\n						\n							\n									Back to News and Updates\n					\n					\n				\n								\n				\n				\n				\n							\n								\n						\n															\n															\n																				\n					\n									\n						\n															\n															\n																				\n					\n									\n						\n															\n															\n																				\n					\n									\n						\n															\n															\n																				\n					\n						\n						\n				\n				\n				\n							\n								\n													\n										Tuesday\, Jan 13\, 2026					\n								\n				\n						\n				\n				\n				\n																														\n				\n				\n		\n		\n		\n				\n				\n					Iran and the New Geopolitical Landscape				\n				\n				\n				\n									HOSTED BY:Jewish Federation of Palm Beach County 								\n				\n				\n				\n					THURSDAY\, APR 16\, 2026				\n				\n				\n				\n									Doors Open 6:00PM | Program 7:00PM 								\n				\n				\n				\n							\n							\n											\n\n												\n													\n										The Ben Hotel\, 251 N. Narcissus Ave\, West Palm Beach\n											\n									\n						\n						\n				\n				\n				\n									\n					\n						\n									Register Here\n					\n					\n				\n								\n				\n				\n		\n		\n		\n				\n				\n					Featured Speaker				\n				\n				\n				\n					 Yaakov KatzIsraeli Military expert and Former Editor-in-Chief at The Jerusalem Post 				\n				\n				\n		\n				\n				\n					In Conversation With				\n				\n				\n				\n					 Josh HammerThe Josh Hammer Show\, Author of “Israel and Civilization” and frequent FOX News Guest. 				\n				\n				\n				\n				\n				\n				\n					\n				\n		\n					\n				\n				\n							\n			\n				PrevPrevious			\n							\n					\n				\n						\n							\n		\n						\n				\n					\n				\n		\n					\n				\n				\n					Related Posts				\n				\n				\n				\n							\n				\n				\n			\n		\n				\n				\n			\n				Jewish Federation of Palm Beach County Announces $4 Million Gift From Renowned Real Estate Developer Ken Endelson to Name Endelson Sports Complex 			\n		\n				\n					\n			April 17\, 2026		\n				\n				\n			Jewish Federation of Palm Beach County today announced a $4 million gift from Ken Endelson to support its Annual Campaign and the Palm Beach Movement to Activate Jewish Life\, a community-wide strategy to expand Jewish life and engagement. The gift will establish the Endelson Sports Complex as part of its historic Campaign for the Future.  \n		\n		\n		\n			Read more >		\n\n				\n				\n				\n				\n			\n		\n				\n				\n			\n				2026 Annual Meeting			\n		\n				\n					\n			March 24\, 2026		\n				\n				\n			Celebrate the remarkable achievements of Jewish Palm Beach over the past year and be among the first to hear exciting announcements that will shape our community’s future.  \n		\n		\n		\n			Read more >		\n\n				\n				\n				\n				\n			\n		\n				\n				\n			\n				Passover Resources Page 2026			\n		\n				\n					\n			March 12\, 2026		\n				\n				\n			Explore Passover resources\, including guides\, recipes\, Haggadah picks\, and activities to help you celebrate\, and connect meaningfully. \n		\n		\n		\n			Read more >
URL:https://jewishpb.org/event/yom-hazikaron/
CATEGORIES:Holidays
END:VEVENT
BEGIN:VEVENT
DTSTART;TZID=America/New_York:20260420T090000
DTEND;TZID=America/New_York:20260422T180000
DTSTAMP:20260420T204216
CREATED:20260128T162522Z
LAST-MODIFIED:20260128T162618Z
UID:10000528-1776675600-1776880800@jewishpb.org
SUMMARY:4th International Summit on Gravitation\, Astrophysics and Cosmology
DESCRIPTION:Critical Conversation 2026 – Iran and the New Geopolitical Landscape				\n				\n					\n				\n		\n					\n		\n				\n				\n									\n					\n						\n						\n							\n									Back to News and Updates\n					\n					\n				\n								\n				\n				\n				\n							\n								\n						\n															\n															\n																				\n					\n									\n						\n															\n															\n																				\n					\n									\n						\n															\n															\n																				\n					\n									\n						\n															\n															\n																				\n					\n						\n						\n				\n				\n				\n							\n								\n													\n										Tuesday\, Jan 13\, 2026					\n								\n				\n						\n				\n				\n				\n																														\n				\n				\n		\n		\n		\n				\n				\n					Iran and the New Geopolitical Landscape				\n				\n				\n				\n									HOSTED BY:Jewish Federation of Palm Beach County 								\n				\n				\n				\n					THURSDAY\, APR 16\, 2026				\n				\n				\n				\n									Doors Open 6:00PM | Program 7:00PM 								\n				\n				\n				\n							\n							\n											\n\n												\n													\n										The Ben Hotel\, 251 N. Narcissus Ave\, West Palm Beach\n											\n									\n						\n						\n				\n				\n				\n									\n					\n						\n									Register Here\n					\n					\n				\n								\n				\n				\n		\n		\n		\n				\n				\n					Featured Speaker				\n				\n				\n				\n					 Yaakov KatzIsraeli Military expert and Former Editor-in-Chief at The Jerusalem Post 				\n				\n				\n		\n				\n				\n					In Conversation With				\n				\n				\n				\n					 Josh HammerThe Josh Hammer Show\, Author of “Israel and Civilization” and frequent FOX News Guest. 				\n				\n				\n				\n				\n				\n				\n					\n				\n		\n					\n				\n				\n							\n			\n				PrevPrevious			\n							\n					\n				\n						\n							\n		\n						\n				\n					\n				\n		\n					\n				\n				\n					Related Posts				\n				\n				\n				\n							\n				\n				\n			\n		\n				\n				\n			\n				Jewish Federation of Palm Beach County Announces $4 Million Gift From Renowned Real Estate Developer Ken Endelson to Name Endelson Sports Complex 			\n		\n				\n					\n			April 17\, 2026		\n				\n				\n			Jewish Federation of Palm Beach County today announced a $4 million gift from Ken Endelson to support its Annual Campaign and the Palm Beach Movement to Activate Jewish Life\, a community-wide strategy to expand Jewish life and engagement. The gift will establish the Endelson Sports Complex as part of its historic Campaign for the Future.  \n		\n		\n		\n			Read more >		\n\n				\n				\n				\n				\n			\n		\n				\n				\n			\n				2026 Annual Meeting			\n		\n				\n					\n			March 24\, 2026		\n				\n				\n			Celebrate the remarkable achievements of Jewish Palm Beach over the past year and be among the first to hear exciting announcements that will shape our community’s future.  \n		\n		\n		\n			Read more >		\n\n				\n				\n				\n				\n			\n		\n				\n				\n			\n				Passover Resources Page 2026			\n		\n				\n					\n			March 12\, 2026		\n				\n				\n			Explore Passover resources\, including guides\, recipes\, Haggadah picks\, and activities to help you celebrate\, and connect meaningfully. \n		\n		\n		\n			Read more >
URL:https://jewishpb.org/event/4th-international-summit-on-gravitation-astrophysics-and-cosmology/
CATEGORIES:Community Events
ATTACH;FMTTYPE=image/jpeg:https://jewishpb.org/wp-content/uploads/2026/01/MedesaniMassimoBanner.jpg
ORGANIZER;CN="Spectrum":MAILTO:isgac@spectrumconferences.com
END:VEVENT
END:VCALENDAR