BEGIN:VCALENDAR
VERSION:2.0
PRODID:-//Jewish Federation of Palm Beach County - ECPv6.15.20//NONSGML v1.0//EN
CALSCALE:GREGORIAN
METHOD:PUBLISH
X-WR-CALNAME:Jewish Federation of Palm Beach County
X-ORIGINAL-URL:https://jewishpb.org
X-WR-CALDESC:Events for Jewish Federation of Palm Beach County
REFRESH-INTERVAL;VALUE=DURATION:PT1H
X-Robots-Tag:noindex
X-PUBLISHED-TTL:PT1H
BEGIN:VTIMEZONE
TZID:America/New_York
BEGIN:DAYLIGHT
TZOFFSETFROM:-0500
TZOFFSETTO:-0400
TZNAME:EDT
DTSTART:20240310T070000
END:DAYLIGHT
BEGIN:STANDARD
TZOFFSETFROM:-0400
TZOFFSETTO:-0500
TZNAME:EST
DTSTART:20241103T060000
END:STANDARD
BEGIN:DAYLIGHT
TZOFFSETFROM:-0500
TZOFFSETTO:-0400
TZNAME:EDT
DTSTART:20250309T070000
END:DAYLIGHT
BEGIN:STANDARD
TZOFFSETFROM:-0400
TZOFFSETTO:-0500
TZNAME:EST
DTSTART:20251102T060000
END:STANDARD
BEGIN:DAYLIGHT
TZOFFSETFROM:-0500
TZOFFSETTO:-0400
TZNAME:EDT
DTSTART:20260308T070000
END:DAYLIGHT
BEGIN:STANDARD
TZOFFSETFROM:-0400
TZOFFSETTO:-0500
TZNAME:EST
DTSTART:20261101T060000
END:STANDARD
END:VTIMEZONE
BEGIN:VEVENT
DTSTART;TZID=America/New_York:20251212T180000
DTEND;TZID=America/New_York:20251212T203000
DTSTAMP:20260421T141230
CREATED:20251210T145303Z
LAST-MODIFIED:20251210T145303Z
UID:10000501-1765562400-1765571400@jewishpb.org
SUMMARY:Holiday Happy Hour
DESCRIPTION:Join Temple Beth David on December 12th for Holiday Happy Hour @ 6:00 pm (Adults Only)!\nKids Club will be from 6:00-7:30 pm (RSVP Required).\nShabbat Services at 6:30 pm as well as our Special Guest Speaker: Lone Soldier Center in Memory of Michael Levin.\nDessert Oneg to follow.
URL:https://jewishpb.org/event/holiday-happy-hour/
CATEGORIES:Community Events
ATTACH;FMTTYPE=image/jpeg:https://jewishpb.org/wp-content/uploads/2025/12/Shabbat-Holiday-Hour-Hour-12.12.25.jpg
ORGANIZER;CN="Temple Beth David":MAILTO:clergyasst@templebethdavidfl.org
END:VEVENT
END:VCALENDAR